BEGIN:VCALENDAR
VERSION:2.0
PRODID:spatie/icalendar-generator
DESCRIPTION:Events from Friends Of Platt Fields Park
X-WR-CALDESC:Events from Friends Of Platt Fields Park
REFRESH-INTERVAL;VALUE=DURATION:PT1440M
X-PUBLISHED-TTL:PT1440M
BEGIN:VTIMEZONE
TZID:Europe/London
BEGIN:STANDARD
DTSTART:20251026T020000Z
TZOFFSETFROM:+0100
TZOFFSETTO:+0000
END:STANDARD
BEGIN:DAYLIGHT
DTSTART:20260329T010000Z
TZOFFSETFROM:+0000
TZOFFSETTO:+0100
END:DAYLIGHT
END:VTIMEZONE
BEGIN:VTIMEZONE
TZID:UTC
BEGIN:STANDARD
DTSTART:20250725T114416Z
TZOFFSETFROM:+0000
TZOFFSETTO:+0000
END:STANDARD
END:VTIMEZONE
BEGIN:VEVENT
UID:235-21
DTSTAMP:20260421T114416Z
SUMMARY:Park Ranger and Friends of Platt Fields Drop in
LOCATION:Lakeside Centre - Platt Fields Park Platt Fields Park Wilmslow Roa
 d Manchester Greater Manchester M14 6LA
ORGANIZER;CN=Auden:MAILTO:friendsofplattfields@gmail.com
DTSTART;TZID=Europe/London:20260215T110000
DTEND;TZID=Europe/London:20260215T130000
X-ALT-DESC;FMTTYPE=TEXT/HTML:All park users are invited to drop in\, say he
 llo\, have a brew and talk about any park issues with the park staff and r
 egular park volunteers\, at the Lakeside Centre from 11:00am.
CATEGORIES:General
URL;VALUE=URI:https://friendsofplattfields.org.uk/mc-events/park-ranger-and
 -friends-of-platt-fields-drop-in/
METHOD:PUBLISH
END:VEVENT
END:VCALENDAR