BEGIN:VCALENDAR
VERSION:2.0
PRODID:spatie/icalendar-generator
DESCRIPTION:Events from Friends Of Platt Fields Park
X-WR-CALDESC:Events from Friends Of Platt Fields Park
REFRESH-INTERVAL;VALUE=DURATION:PT1440M
X-PUBLISHED-TTL:PT1440M
BEGIN:VTIMEZONE
TZID:Europe/London
BEGIN:DAYLIGHT
DTSTART:20250330T010000Z
TZOFFSETFROM:+0000
TZOFFSETTO:+0100
END:DAYLIGHT
BEGIN:STANDARD
DTSTART:20251026T020000Z
TZOFFSETFROM:+0100
TZOFFSETTO:+0000
END:STANDARD
BEGIN:DAYLIGHT
DTSTART:20260329T010000Z
TZOFFSETFROM:+0000
TZOFFSETTO:+0100
END:DAYLIGHT
END:VTIMEZONE
BEGIN:VTIMEZONE
TZID:UTC
BEGIN:STANDARD
DTSTART:20250726T134953Z
TZOFFSETFROM:+0000
TZOFFSETTO:+0000
END:STANDARD
END:VTIMEZONE
BEGIN:VEVENT
UID:233-19
DTSTAMP:20260422T134953Z
SUMMARY:Peace And Craft Fair
LOCATION:Birch Community Centre Brighton Grove    M14 5JT
ORGANIZER;CN=Auden:MAILTO:friendsofplattfields@gmail.com
DTSTART;TZID=Europe/London:20251101T100000
DTEND;TZID=Europe/London:20251101T150000
X-ALT-DESC;FMTTYPE=TEXT/HTML:Friends of Platt Fields will be attending the 
 Birch Community Centre Peace and Craft Fair\, just off Wilmslow Road\, opp
 osite Platt Fields Park. Live music with Obsidian\, a Peace Cafe\, plenty 
 of jolly company\, and stalls selling artisan jewellery\, handmade felt cr
 itters\, calligraphy\, gorgeous glassware and olive oil from Palestine\, b
 ooks\, bookmarks\, scrummy homemade cakes\,&amp;hellip\;
CATEGORIES:General
URL;VALUE=URI:https://friendsofplattfields.org.uk/mc-events/peace-and-craft
 -fair/
METHOD:PUBLISH
END:VEVENT
END:VCALENDAR