BEGIN:VCALENDAR
VERSION:2.0
PRODID:spatie/icalendar-generator
DESCRIPTION:Events from Friends Of Platt Fields Park
X-WR-CALDESC:Events from Friends Of Platt Fields Park
REFRESH-INTERVAL;VALUE=DURATION:PT1440M
X-PUBLISHED-TTL:PT1440M
BEGIN:VTIMEZONE
TZID:Europe/London
BEGIN:DAYLIGHT
DTSTART:20250330T010000Z
TZOFFSETFROM:+0000
TZOFFSETTO:+0100
END:DAYLIGHT
BEGIN:STANDARD
DTSTART:20251026T020000Z
TZOFFSETFROM:+0100
TZOFFSETTO:+0000
END:STANDARD
END:VTIMEZONE
BEGIN:VTIMEZONE
TZID:UTC
BEGIN:STANDARD
DTSTART:20250726T000335Z
TZOFFSETFROM:+0000
TZOFFSETTO:+0000
END:STANDARD
END:VTIMEZONE
BEGIN:VEVENT
UID:232-17
DTSTAMP:20260422T000335Z
SUMMARY:Friends of Platt Fields Drop In Meeting
LOCATION:Lakeside Centre - Platt Fields Park Platt Fields Park Wilmslow Roa
 d Manchester Greater Manchester M14 6LA
ORGANIZER;CN=Auden:MAILTO:friendsofplattfields@gmail.com
DTSTART;TZID=Europe/London:20250914T110000
DTEND;TZID=Europe/London:20250914T130000
X-ALT-DESC;FMTTYPE=TEXT/HTML:Meeting open to members of the Friends and mem
 bers of the public. Come in to the Lakeside Centre and have a friendly cha
 t with Friends volunteers and Park staff about Platt Fields Park.
CATEGORIES:General
URL;VALUE=URI:https://friendsofplattfields.org.uk/mc-events/friends-of-plat
 t-fields-drop-in-meeting/
METHOD:PUBLISH
END:VEVENT
END:VCALENDAR