BEGIN:VCALENDAR
VERSION:2.0
PRODID:spatie/icalendar-generator
DESCRIPTION:Events from Friends Of Platt Fields Park
X-WR-CALDESC:Events from Friends Of Platt Fields Park
REFRESH-INTERVAL;VALUE=DURATION:PT1440M
X-PUBLISHED-TTL:PT1440M
BEGIN:VTIMEZONE
TZID:Europe/London
BEGIN:DAYLIGHT
DTSTART:20250330T010000Z
TZOFFSETFROM:+0000
TZOFFSETTO:+0100
END:DAYLIGHT
BEGIN:STANDARD
DTSTART:20251026T020000Z
TZOFFSETFROM:+0100
TZOFFSETTO:+0000
END:STANDARD
END:VTIMEZONE
BEGIN:VTIMEZONE
TZID:UTC
BEGIN:STANDARD
DTSTART:20250725T111858Z
TZOFFSETFROM:+0000
TZOFFSETTO:+0000
END:STANDARD
END:VTIMEZONE
BEGIN:VEVENT
UID:222-14
DTSTAMP:20260421T111858Z
SUMMARY:National Garden Scheme Shakespearean Garden Open Day
LOCATION:Shakespearean Garden - Platt Fields Park Platt Fields Park Wilmslo
 w Road Manchester Greater Manchester M14 6LA
ORGANIZER;CN=Auden:MAILTO:friendsofplattfields@gmail.com
DTSTART;TZID=Europe/London:20250727T113000
DTEND;TZID=Europe/London:20250727T173000
X-ALT-DESC;FMTTYPE=TEXT/HTML:The concept of a Shakespearean Garden was firs
 t developed in Victorian England with the idea of creating a garden with s
 ome or all\, of the trees and flowers mentioned in the bard’s works. Wit
 h strong links to the suffrage movement and Edwardian Manchester society o
 ur garden opened in 1922 and was rescued from near obscurity&amp;hellip\;
CATEGORIES:General
URL;VALUE=URI:https://friendsofplattfields.org.uk/mc-events/national-garden
 -scheme-shakespearean-garden-open-day/
METHOD:PUBLISH
END:VEVENT
END:VCALENDAR