BEGIN:VCALENDAR
VERSION:2.0
PRODID:spatie/icalendar-generator
DESCRIPTION:Events from Friends Of Platt Fields Park
X-WR-CALDESC:Events from Friends Of Platt Fields Park
REFRESH-INTERVAL;VALUE=DURATION:PT1440M
X-PUBLISHED-TTL:PT1440M
BEGIN:VTIMEZONE
TZID:Europe/London
BEGIN:DAYLIGHT
DTSTART:20240331T010000Z
TZOFFSETFROM:+0000
TZOFFSETTO:+0100
END:DAYLIGHT
BEGIN:STANDARD
DTSTART:20241027T020000Z
TZOFFSETFROM:+0100
TZOFFSETTO:+0000
END:STANDARD
BEGIN:DAYLIGHT
DTSTART:20250330T010000Z
TZOFFSETFROM:+0000
TZOFFSETTO:+0100
END:DAYLIGHT
END:VTIMEZONE
BEGIN:VTIMEZONE
TZID:UTC
BEGIN:STANDARD
DTSTART:20250725T142414Z
TZOFFSETFROM:+0000
TZOFFSETTO:+0000
END:STANDARD
END:VTIMEZONE
BEGIN:VEVENT
UID:212-5
DTSTAMP:20260421T142414Z
SUMMARY:Tree Planting Day
LOCATION:Platt Fields Park Platt Fields Park Wilmslow Road Manchester Great
 er Manchester M14 6LA
ORGANIZER;CN=Auden:MAILTO:friendsofplattfields@gmail.com
DTSTART;TZID=Europe/London:20241116T100000
DTEND;TZID=Europe/London:20241116T130000
X-ALT-DESC;FMTTYPE=TEXT/HTML:Manchester Metropolitan University and Friends
  of Platt Fields Park would like to invite volunteers to help plant 200 tr
 ees in Platt Fields Park. This will be behind the hill in the South West c
 orner of the park from the Hart Road Entrance towards the back path and Wa
 ngari Maathai Woodland as well as behind the&amp;hellip\;
CATEGORIES:General
URL;VALUE=URI:https://friendsofplattfields.org.uk/mc-events/tree-planting-d
 ay/
METHOD:PUBLISH
END:VEVENT
END:VCALENDAR