BEGIN:VCALENDAR
VERSION:2.0
PRODID:spatie/icalendar-generator
DESCRIPTION:Events from Friends Of Platt Fields Park
X-WR-CALDESC:Events from Friends Of Platt Fields Park
REFRESH-INTERVAL;VALUE=DURATION:PT1440M
X-PUBLISHED-TTL:PT1440M
BEGIN:VTIMEZONE
TZID:Europe/London
BEGIN:STANDARD
DTSTART:20241027T020000Z
TZOFFSETFROM:+0100
TZOFFSETTO:+0000
END:STANDARD
BEGIN:DAYLIGHT
DTSTART:20250330T010000Z
TZOFFSETFROM:+0000
TZOFFSETTO:+0100
END:DAYLIGHT
END:VTIMEZONE
BEGIN:VTIMEZONE
TZID:UTC
BEGIN:STANDARD
DTSTART:20250725T095004Z
TZOFFSETFROM:+0000
TZOFFSETTO:+0000
END:STANDARD
END:VTIMEZONE
BEGIN:VEVENT
UID:7-2
DTSTAMP:20260421T095004Z
SUMMARY:Litterpick
LOCATION:Lakeside Centre - Platt Fields Park Platt Fields Park Wilmslow Roa
 d Manchester Greater Manchester M14 6LA
ORGANIZER;CN=Auden:MAILTO:friendsofplattfields@gmail.com
RRULE:FREQ=MONTHLY;BYDAY=1TU;UNTIL=20250427T000000Z
DTSTART;TZID=Europe/London:20250401T110000
DTEND;TZID=Europe/London:20250401T130000
X-ALT-DESC;FMTTYPE=TEXT/HTML:Come and help the Mallards look for more pinea
 pples - they've mislaid the last one! Meet at the Lakeside Centre\, where 
 you'lll find binbags and litterpickers. The weather forecast is looking go
 od\, at the moment - but this is Manchester and who knows what will happen
 ! Best to dress for every season\, especially footwear... Wear&amp;hellip\;
CATEGORIES:General
URL;VALUE=URI:https://friendsofplattfields.org.uk/mc-events/litterpick/?mc_
 id=7
METHOD:PUBLISH
END:VEVENT
END:VCALENDAR