BEGIN:VCALENDAR
VERSION:2.0
PRODID:spatie/icalendar-generator
DESCRIPTION:Events from Friends Of Platt Fields Park
X-WR-CALDESC:Events from Friends Of Platt Fields Park
REFRESH-INTERVAL;VALUE=DURATION:PT1440M
X-PUBLISHED-TTL:PT1440M
BEGIN:VTIMEZONE
TZID:Europe/London
BEGIN:STANDARD
DTSTART:20251026T020000Z
TZOFFSETFROM:+0100
TZOFFSETTO:+0000
END:STANDARD
BEGIN:DAYLIGHT
DTSTART:20260329T010000Z
TZOFFSETFROM:+0000
TZOFFSETTO:+0100
END:DAYLIGHT
BEGIN:STANDARD
DTSTART:20261025T020000Z
TZOFFSETFROM:+0100
TZOFFSETTO:+0000
END:STANDARD
END:VTIMEZONE
BEGIN:VTIMEZONE
TZID:UTC
BEGIN:STANDARD
DTSTART:20250725T172716Z
TZOFFSETFROM:+0000
TZOFFSETTO:+0000
END:STANDARD
END:VTIMEZONE
BEGIN:VEVENT
UID:245-22
DTSTAMP:20260421T172716Z
SUMMARY:Litterpick
LOCATION:Lakeside Centre - Platt Fields Park Platt Fields Park Wilmslow Roa
 d Manchester Greater Manchester M14 6LA
ORGANIZER;CN=Auden:MAILTO:friendsofplattfields@gmail.com
RRULE:FREQ=MONTHLY;BYDAY=1TU;UNTIL=20260805T000000Z
DTSTART;TZID=Europe/London:20260602T110000
DTEND;TZID=Europe/London:20260602T130000
X-ALT-DESC;FMTTYPE=TEXT/HTML:Come and join the merry band\, keeping litter 
 at bay and looking after the park! Meet at the Lakeside Centre\, where you
 'lll find binbags and litterpickers. The weather forecast is looking like 
 good outdoors and rain proof clothing\, at the moment! Please check the we
 ather and dress accordingly\, make sure to wear appropriate footwear. Wear
 &amp;hellip\;
CATEGORIES:General
URL;VALUE=URI:https://friendsofplattfields.org.uk/mc-events/litterpick-8/?m
 c_id=245
METHOD:PUBLISH
END:VEVENT
END:VCALENDAR