BEGIN:VCALENDAR
VERSION:2.0
PRODID:spatie/icalendar-generator
DESCRIPTION:Events from Friends Of Platt Fields Park
X-WR-CALDESC:Events from Friends Of Platt Fields Park
REFRESH-INTERVAL;VALUE=DURATION:PT1440M
X-PUBLISHED-TTL:PT1440M
BEGIN:VTIMEZONE
TZID:Europe/London
BEGIN:DAYLIGHT
DTSTART:20240331T010000Z
TZOFFSETFROM:+0000
TZOFFSETTO:+0100
END:DAYLIGHT
BEGIN:STANDARD
DTSTART:20241027T020000Z
TZOFFSETFROM:+0100
TZOFFSETTO:+0000
END:STANDARD
BEGIN:DAYLIGHT
DTSTART:20250330T010000Z
TZOFFSETFROM:+0000
TZOFFSETTO:+0100
END:DAYLIGHT
END:VTIMEZONE
BEGIN:VTIMEZONE
TZID:UTC
BEGIN:STANDARD
DTSTART:20250725T125518Z
TZOFFSETFROM:+0000
TZOFFSETTO:+0000
END:STANDARD
END:VTIMEZONE
BEGIN:VEVENT
UID:213-6
DTSTAMP:20260421T125518Z
SUMMARY:Platt Fields Winter Wonderland
LOCATION:Platt Fields Park Platt Fields Park Wilmslow Road Manchester Great
 er Manchester M14 6LA
ORGANIZER;CN=Auden:MAILTO:friendsofplattfields@gmail.com
DTSTART;TZID=Europe/London:20241208T110000
DTEND;TZID=Europe/London:20241208T143000
X-ALT-DESC;FMTTYPE=TEXT/HTML:From 11am to 2:30pm Magical Advent Trail in th
 e Shakespearean Garden. Santa's Grotto in the Froghouse (Platt Fields Mark
 et Garden) From 2pm Christmas Tree Lights Switch-On with carol singing\, l
 ive music\, crafts &amp;amp\; mince pies at the Lakeside Centre. All proceeds 
 collected will go towards the restoration of the Shakespearean Garden. Wis
 hing you a very&amp;hellip\;
CATEGORIES:General
URL;VALUE=URI:https://friendsofplattfields.org.uk/mc-events/platt-fields-wi
 nter-wonderland/
METHOD:PUBLISH
END:VEVENT
END:VCALENDAR